BEGIN:VCALENDAR
VERSION:2.0
PRODID:-//ChamberMaster//Event Calendar 2.0//EN
METHOD:PUBLISH
X-PUBLISHED-TTL:P3D
REFRESH-INTERVAL:P3D
CALSCALE:GREGORIAN
BEGIN:VEVENT
DTSTART:20170120T233000Z
DTEND:20170121T043000Z
X-MICROSOFT-CDO-ALLDAYEVENT:FALSE
SUMMARY:2017 Annual Banquet
DESCRIPTION:2017 Annual Chamber Banquet
X-ALT-DESC;FMTTYPE=text/html:2017 Annual Chamber Banquet
LOCATION:Marina Inn Hotel & Conference Center 385 East 4th Street South Sioux City\, NE 68776 (402)412-4102
UID:e.1605.16274
SEQUENCE:3
DTSTAMP:20260421T041535Z
URL:http://business.southsiouxchamber.org/events/details/2017-annual-banquet-16274
END:VEVENT

END:VCALENDAR
