BEGIN:VCALENDAR
VERSION:2.0
PRODID:-//ChamberMaster//Event Calendar 2.0//EN
METHOD:PUBLISH
X-PUBLISHED-TTL:P3D
REFRESH-INTERVAL:P3D
CALSCALE:GREGORIAN
BEGIN:VEVENT
DTSTART;VALUE=DATE:20170120
DTEND;VALUE=DATE:20170121
TRANSP:TRANSPARENT
X-MICROSOFT-CDO-ALLDAYEVENT:TRUE
SUMMARY:2017 Dessert Auction
DESCRIPTION:A fundraiser for the South Sioux City Area Chamber of Commerce held at the Annual Banquet on Friday January\, 20th\, 2017. Fifteen delicious\, eye-catching\, out-of-this world desserts are needed. These will be auctioned to the highest bidding table at the event. Dessert should be large enough to serve at least eight Nebraska-sized servings. The dessert with highest dollar bid will receive an award!
X-ALT-DESC;FMTTYPE=text/html:<p style="margin: 0px\; font-size: 16px\; line-height: normal\; font-family: 'Myriad Pro Semibold'\;"><span style="font-family:arial\;"><span style="line-height: normal\;">A fundraiser for the South Sioux City Area Chamber of Commerce held at the Annual Banquet on Friday January\, 20th\, 2017. Fifteen delicious\, eye-catching\, out-of-this world desserts are needed. These will be auctioned to the highest bidding table at the event. Dessert should be large enough to serve at least eight Nebraska-sized servings. The dessert with highest dollar bid will receive an award!</span></span></p>\n\n<div>&nbsp\;</div>\n
LOCATION:Marina Inn Hotel 385 E 4th St\, South Sioux City\, NE 68776 Phone: (402) 494-4000
UID:e.1605.16276
SEQUENCE:3
DTSTAMP:20260421T041411Z
URL:http://business.southsiouxchamber.org/events/details/2017-dessert-auction-16276
END:VEVENT

END:VCALENDAR
