BEGIN:VCALENDAR
VERSION:2.0
PRODID:-//ChamberMaster//Event Calendar 2.0//EN
METHOD:PUBLISH
X-PUBLISHED-TTL:P3D
REFRESH-INTERVAL:P3D
CALSCALE:GREGORIAN
BEGIN:VEVENT
DTSTART:20170113T153000Z
DTEND:20170113T163000Z
X-MICROSOFT-CDO-ALLDAYEVENT:FALSE
SUMMARY:Chamber Coffee Hour
DESCRIPTION:A great networking event with other professionals
X-ALT-DESC;FMTTYPE=text/html:A great networking event with other professionals
LOCATION:Dakota County Health 1601 Broadway Dakota City\, NE 68731
UID:e.1605.6934
SEQUENCE:3
DTSTAMP:20260421T043436Z
URL:http://business.southsiouxchamber.org/events/details/chamber-coffee-hour-01-13-2017-6934
END:VEVENT

END:VCALENDAR
