BEGIN:VCALENDAR
VERSION:2.0
PRODID:-//ChamberMaster//Event Calendar 2.0//EN
METHOD:PUBLISH
X-PUBLISHED-TTL:P3D
REFRESH-INTERVAL:P3D
CALSCALE:GREGORIAN
BEGIN:VEVENT
DTSTART:20170127T153000Z
DTEND:20170127T163000Z
X-MICROSOFT-CDO-ALLDAYEVENT:FALSE
SUMMARY:Chamber Coffee Hour
DESCRIPTION:A great networking event with other professionals
X-ALT-DESC;FMTTYPE=text/html:A great networking event with other professionals
LOCATION:America's Best Value Inn
UID:e.1605.6936
SEQUENCE:3
DTSTAMP:20260421T041546Z
URL:http://business.southsiouxchamber.org/events/details/chamber-coffee-hour-01-27-2017-6936
END:VEVENT

END:VCALENDAR
