BEGIN:VCALENDAR
VERSION:2.0
PRODID:-//ChamberMaster//Event Calendar 2.0//EN
METHOD:PUBLISH
X-PUBLISHED-TTL:P3D
REFRESH-INTERVAL:P3D
CALSCALE:GREGORIAN
BEGIN:VEVENT
DTSTART:20141104T143000Z
DTEND:20141105T033000Z
X-MICROSOFT-CDO-ALLDAYEVENT:FALSE
SUMMARY:Dakota Avenue Grand Opening/Ribbon Cutting
DESCRIPTION:The City of South Sioux City along with City Council Members would like you\n\nto join us for a Ribbon Cutting Ceremony to be held at the intersection of\n\nWedgewood and Dakota Avenue.  Will include address from Mayor William McLarty.  Also coffee and cookies will be served at First Lutheran Church following the Ceremony.
X-ALT-DESC;FMTTYPE=text/html:The City of South Sioux City along with City Council Members would like you<br />\nto join us for a Ribbon Cutting Ceremony to be held at the intersection of<br />\nWedgewood and Dakota Avenue.&nbsp\; Will include address from Mayor William McLarty.&nbsp\; Also coffee and cookies will be served at First Lutheran Church following the Ceremony.&nbsp\;&nbsp\;&nbsp\;&nbsp\;
LOCATION:Wedgewood and Dakota Ave South Sioux City NE
UID:e.1605.6775
SEQUENCE:3
DTSTAMP:20260421T091352Z
URL:http://business.southsiouxchamber.org/events/details/dakota-avenue-grand-opening-ribbon-cutting-11-04-2014-6775
END:VEVENT

END:VCALENDAR
