BEGIN:VCALENDAR
VERSION:2.0
PRODID:-//ChamberMaster//Event Calendar 2.0//EN
METHOD:PUBLISH
X-PUBLISHED-TTL:P3D
REFRESH-INTERVAL:P3D
CALSCALE:GREGORIAN
BEGIN:VEVENT
DTSTART:20220829T150000Z
DTEND:20220830T000000Z
X-MICROSOFT-CDO-ALLDAYEVENT:FALSE
SUMMARY:2022 Golf Social
DESCRIPTION:It is time for our 29th Annual Golf Social!! We have golf\, food\, networking\, laughter\, & "FUN"draising Silent Auction!!!! Trust us you don't want to miss this! \n\n\n\nRain date will be Sept 12\, 2022.\n\n\n\n*Guarantee your spot with payment on or before Aug 5\, 2022*\n\n\n\n**Full refunds will be made for cancellations received on or before Aug 15\, 2022**\n\n\n\n***As excited as we all get about winning\, please remember Silent Auction items must be paid for prior to taking possession (day of or at the SSC Chamber office) ***
X-ALT-DESC;FMTTYPE=text/html:<span style="color:#333333\;"><span style="font-family:segoe print\;"><span style="font-size:16.0pt\;">It is time for our </span></span></span><strong><span style="color:#333333\;"><span style="font-family:segoe print\;"><span style="font-size:18.0pt\;">29th Annual Golf Social!!</span></span></span></strong><span style="color:#333333\;"><span style="font-family:segoe print\;"><span style="font-size:16.0pt\;"> We have golf\, food\, networking\, laughter\, &amp\; <strong>&quot\;FUN&quot\;draising</strong> Silent Auction!!!! Trust us you don&#39\;t want to miss this!&nbsp\;</span></span></span><br style="font-variant-ligatures:normal\;font-variant-caps:normal\;orphans:2\;text-align:start\;widows:2\;-webkit-text-stroke-width:0px\;text-decoration-thickness:initial\;text-decoration-style:initial\;word-spacing:0px\;" />\n<br style="font-variant-ligatures:normal\;font-variant-caps:normal\;orphans:2\;text-align:start\;widows:2\;-webkit-text-stroke-width:0px\;text-decoration-thickness:initial\;text-decoration-style:initial\;word-spacing:0px\;" />\n<strong><span style="background:white\;"><span style="color:#333333\;"><span style="font-family:segoe print\;"><span style="font-size:18.0pt\;"><span style="font-variant-ligatures:normal\;font-variant-caps:normal\;orphans:2\;text-align:start\;widows:2\;-webkit-text-stroke-width:0px\;text-decoration-thickness:initial\;text-decoration-style:initial\;float:none\;word-spacing:0px\;">Rain date will be Sept 12\, 2022.</span></span></span></span></span></strong><br style="font-variant-ligatures:normal\;font-variant-caps:normal\;orphans:2\;text-align:start\;widows:2\;-webkit-text-stroke-width:0px\;text-decoration-thickness:initial\;text-decoration-style:initial\;word-spacing:0px\;" />\n<br style="font-variant-ligatures:normal\;font-variant-caps:normal\;orphans:2\;text-align:start\;widows:2\;-webkit-text-stroke-width:0px\;text-decoration-thickness:initial\;text-decoration-style:initial\;word-spacing:0px\;" />\n<span style="color:#333333\;"><span style="font-family:segoe print\;"><span style="font-size:16.0pt\;"><span style="background:white\;"><span style="font-variant-ligatures:normal\;font-variant-caps:normal\;orphans:2\;text-align:start\;widows:2\;-webkit-text-stroke-width:0px\;text-decoration-thickness:initial\;text-decoration-style:initial\;float:none\;word-spacing:0px\;">*Guarantee your spot with payment on or before </span></span><strong><span style="background:white\;"><span style="color:#333333\;"><span style="font-family:segoe print\;"><span style="font-size:18.0pt\;">Aug 5\, 2022</span></span></span></span></strong><span style="background:white\;"><span style="color:#333333\;"><span style="font-family:segoe print\;"><span style="font-size:16.0pt\;">*</span></span></span></span></span></span></span><br style="font-variant-ligatures:normal\;font-variant-caps:normal\;orphans:2\;text-align:start\;widows:2\;-webkit-text-stroke-width:0px\;text-decoration-thickness:initial\;text-decoration-style:initial\;word-spacing:0px\;" />\n<br style="font-variant-ligatures:normal\;font-variant-caps:normal\;orphans:2\;text-align:start\;widows:2\;-webkit-text-stroke-width:0px\;text-decoration-thickness:initial\;text-decoration-style:initial\;word-spacing:0px\;" />\n<span style="color:#333333\;"><span style="font-family:segoe print\;"><span style="font-size:16.0pt\;"><span style="background:white\;"><span style="font-variant-ligatures:normal\;font-variant-caps:normal\;orphans:2\;text-align:start\;widows:2\;-webkit-text-stroke-width:0px\;text-decoration-thickness:initial\;text-decoration-style:initial\;float:none\;word-spacing:0px\;">**Full refunds will be made for cancellations received on or before </span></span><strong><span style="background:white\;"><span style="color:#333333\;"><span style="font-family:segoe print\;"><span style="font-size:18.0pt\;">Aug 15\, 2022</span></span></span></span></strong><span style="background:white\;"><span style="color:#333333\;"><span style="font-family:segoe print\;"><span style="font-size:16.0pt\;">**</span></span></span></span></span></span></span><br style="font-variant-ligatures:normal\;font-variant-caps:normal\;orphans:2\;text-align:start\;widows:2\;-webkit-text-stroke-width:0px\;text-decoration-thickness:initial\;text-decoration-style:initial\;word-spacing:0px\;" />\n<br style="font-variant-ligatures:normal\;font-variant-caps:normal\;orphans:2\;text-align:start\;widows:2\;-webkit-text-stroke-width:0px\;text-decoration-thickness:initial\;text-decoration-style:initial\;word-spacing:0px\;" />\n<span style="color:#333333\;"><span style="font-family:segoe print\;"><span style="font-size:16.0pt\;"><span style="background:white\;"><span style="font-variant-ligatures:normal\;font-variant-caps:normal\;orphans:2\;text-align:start\;widows:2\;-webkit-text-stroke-width:0px\;text-decoration-thickness:initial\;text-decoration-style:initial\;float:none\;word-spacing:0px\;">***As excited as we all get about </span></span><strong><span style="background:white\;"><span style="color:#333333\;"><span style="font-family:segoe print\;"><span style="font-size:18.0pt\;">winning</span></span></span></span></strong><span style="background:white\;"><span style="color:#333333\;"><span style="font-family:segoe print\;"><span style="font-size:16.0pt\;">\, please remember <strong>Silent Auction</strong> items must be paid for prior to taking possession (day of or at the SSC Chamber office) ***</span></span></span></span></span></span></span><br />\n&nbsp\;
LOCATION:Covington Links Golf Course\, 497 Golf Road\, South Sioux City\, NE
UID:e.1605.21457
SEQUENCE:3
DTSTAMP:20260424T184042Z
URL:https://business.southsiouxchamber.org/events/details/2022-golf-social-21457
END:VEVENT

END:VCALENDAR
