BEGIN:VCALENDAR
VERSION:2.0
PRODID:-//ChamberMaster//Event Calendar 2.0//EN
METHOD:PUBLISH
X-PUBLISHED-TTL:P3D
REFRESH-INTERVAL:P3D
CALSCALE:GREGORIAN
BEGIN:VEVENT
DTSTART:20230623T150000Z
DTEND:20230623T220000Z
X-MICROSOFT-CDO-ALLDAYEVENT:FALSE
SUMMARY:Siouxland Community Health Foundation's 7th Annual Health Center Open
DESCRIPTION:The Siouxland Community Health Foundation will host an afternoon of golf at the Sioux City Country Club on Friday\, June 23.  The event will feature an 18-hole scramble with various pin prizes throughout the tournament.  A complimentary sack lunch is available at 10:00AM prior to the 11:00AM shotgun start\, and dinner is included during the awards presentation after. Grab your co-workers\, friends and family and join us in our 7th year of golfing\, fun\, and supporting the Siouxland Community Health Foundation!  10:00AM - Registration 11:00AM - Shotgun start Presented by: Mutual of America Sponsorships range from $150 - $1\,500\, and individuals can golf for $175/person.\n\nRegister online here:  https://secure.qgiv.com/for/schc/event/2023golfopen/
X-ALT-DESC;FMTTYPE=text/html:The Siouxland Community Health Foundation will host an afternoon of golf at the Sioux City Country Club on Friday\, June 23. &nbsp\;The event will feature an 18-hole scramble with various pin prizes throughout the tournament. &nbsp\;A complimentary sack lunch is available at 10:00AM prior to the 11:00AM shotgun start\, and dinner is included during the awards presentation after. Grab your co-workers\, friends and family and join us in our 7th year of golfing\, fun\, and supporting the Siouxland Community Health Foundation!&nbsp\; 10:00AM - Registration 11:00AM - Shotgun start Presented by: Mutual of America Sponsorships range from $150 - $1\,500\, and individuals can golf for $175/person.<br />\nRegister online here:&nbsp\; https://secure.qgiv.com/for/schc/event/2023golfopen/
LOCATION:Sioux City Country Club
UID:e.1605.21855
SEQUENCE:3
DTSTAMP:20260419T221512Z
URL:https://business.southsiouxchamber.org/events/details/siouxland-community-health-foundation-s-7th-annual-health-center-open-06-23-2023-21855
END:VEVENT

END:VCALENDAR
