BEGIN:VCALENDAR
VERSION:2.0
PRODID:-//ChamberMaster//Event Calendar 2.0//EN
METHOD:PUBLISH
X-PUBLISHED-TTL:P3D
REFRESH-INTERVAL:P3D
CALSCALE:GREGORIAN
BEGIN:VEVENT
DTSTART:20260427T220000Z
DTEND:20260428T000000Z
X-MICROSOFT-CDO-ALLDAYEVENT:FALSE
SUMMARY:South Sioux City Canvassing
DESCRIPTION:About this event\n\n \n\n\n\n\n\n\n\n  Join the Nebraska Table for a Community Canvass action days head of the May 12 Primary!\n\nWe're coming together as a coalition of nonpartisan organizations to make sure every voice is heard in the upcoming Primary Election on May 12.\n\n   Help us connect with neighbors\, share important voting information\, and strengthen civic participation in our community.\n\nWhether you're a first-time volunteer or a seasoned canvasser\, we'll provide all the training and materials you need to get started.\n\nWe are canvassing three days a week: Mondays\, Wednesdays\, and Saturdays\n\nTogether\, we can empower voters and build a more informed\, engaged community one conversation at a time.\n\nSign up today and be part of the movement for accessible\, nonpartisan civic engagement!
X-ALT-DESC;FMTTYPE=text/html:<div class="css-1xdhyk6 ef8693v2" style="box-sizing: inherit\; color: rgb(0\, 0\, 0)\; font-family: system-ui\, -apple-system\, BlinkMacSystemFont\, &quot\;Segoe UI&quot\;\, Roboto\, Oxygen\, Ubuntu\, Cantarell\, &quot\;Fira Sans&quot\;\, &quot\;Droid Sans&quot\;\, &quot\;Helvetica Neue&quot\;\, sans-serif\, &quot\;Apple Color Emoji&quot\;\, &quot\;Segoe UI Emoji&quot\;\, &quot\;Segoe UI Symbol&quot\;\, &quot\;Noto Color Emoji&quot\;\; font-size: 16px\;">\n<h2 class="css-8g85fa" style="box-sizing: inherit\; margin: 1.5rem 0px 0.5rem\; font: 700 1.5rem / 1.2 tablet-gothic-semi-condensed\, system-ui\, -apple-system\, BlinkMacSystemFont\, &quot\;Segoe UI&quot\;\, Roboto\, Oxygen\, Ubuntu\, Cantarell\, &quot\;Fira Sans&quot\;\, &quot\;Droid Sans&quot\;\, &quot\;Helvetica Neue&quot\;\, sans-serif\, &quot\;Apple Color Emoji&quot\;\, &quot\;Segoe UI Emoji&quot\;\, &quot\;Segoe UI Symbol&quot\;\, &quot\;Noto Color Emoji&quot\;\;"><span class="mbz-typography-inner-wrapper css-kjedjz e1spt5vp1" style="box-sizing: inherit\; font-size: 1.5rem\;">About this event</span></h2>\n\n<div style="box-sizing: inherit\;">&nbsp\;</div>\n</div>\n\n<div class="css-1ewqap6 ef8693v1" style="box-sizing: inherit\; margin-bottom: 1.5rem\; color: rgb(0\, 0\, 0)\; font-family: system-ui\, -apple-system\, BlinkMacSystemFont\, &quot\;Segoe UI&quot\;\, Roboto\, Oxygen\, Ubuntu\, Cantarell\, &quot\;Fira Sans&quot\;\, &quot\;Droid Sans&quot\;\, &quot\;Helvetica Neue&quot\;\, sans-serif\, &quot\;Apple Color Emoji&quot\;\, &quot\;Segoe UI Emoji&quot\;\, &quot\;Segoe UI Symbol&quot\;\, &quot\;Noto Color Emoji&quot\;\; font-size: 16px\;">\n<div class="css-xtvjy3" style="box-sizing: inherit\; font-style: normal\; font-variant: normal\; font-size-adjust: none\; font-language-override: normal\; font-kerning: auto\; font-optical-sizing: auto\; font-feature-settings: normal\; font-variation-settings: normal\; font-stretch: normal\; font-size: 1rem\; line-height: 1.5\; font-family: system-ui\, -apple-system\, BlinkMacSystemFont\, &quot\;Segoe UI&quot\;\, Roboto\, Oxygen\, Ubuntu\, Cantarell\, &quot\;Fira Sans&quot\;\, &quot\;Droid Sans&quot\;\, &quot\;Helvetica Neue&quot\;\, sans-serif\, &quot\;Apple Color Emoji&quot\;\, &quot\;Segoe UI Emoji&quot\;\, &quot\;Segoe UI Symbol&quot\;\, &quot\;Noto Color Emoji&quot\;\;">\n<div class="css-1njhs7w et84t5r0" style="box-sizing: inherit\; position: relative\;">\n<div class="css-gygapm ejb1rhe1" id="collapseEventDetail-description" style="box-sizing: inherit\;">\n<div style="box-sizing: inherit\;">\n<p style="box-sizing: inherit\; margin-bottom: 1rem\; margin-top: 0px\;"><span class="mbz-typography-inner-wrapper css-7fn6et e1spt5vp1" style="box-sizing: inherit\; overflow-wrap: anywhere\;">&#128227\; Join the Nebraska Table for&nbsp\;a Community Canvass action days head of the May 12 Primary!</span></p>\n\n<p style="box-sizing: inherit\; margin-bottom: 1rem\; margin-top: 0px\;"><span class="mbz-typography-inner-wrapper css-7fn6et e1spt5vp1" style="box-sizing: inherit\; overflow-wrap: anywhere\;">We&rsquo\;re coming together as a coalition of nonpartisan organizations to make sure every voice is heard in the upcoming Primary Election on May 12.</span></p>\n\n<p style="box-sizing: inherit\; margin-bottom: 1rem\; margin-top: 0px\;"><span class="mbz-typography-inner-wrapper css-7fn6et e1spt5vp1" style="box-sizing: inherit\; overflow-wrap: anywhere\;">&#128499\;&#65039\; Help us connect with neighbors\, share important voting information\, and strengthen civic participation in our community.</span></p>\n\n<p style="box-sizing: inherit\; margin-bottom: 1rem\; margin-top: 0px\;"><span class="mbz-typography-inner-wrapper css-7fn6et e1spt5vp1" style="box-sizing: inherit\; overflow-wrap: anywhere\;">Whether you&rsquo\;re a first-time volunteer or a seasoned canvasser\, we&rsquo\;ll provide all the training and materials you need to get started.</span></p>\n\n<p style="box-sizing: inherit\; margin-bottom: 1rem\; margin-top: 0px\;"><span class="mbz-typography-inner-wrapper css-7fn6et e1spt5vp1" style="box-sizing: inherit\; overflow-wrap: anywhere\;">We are canvassing three days a week: Mondays\, Wednesdays\, and Saturdays</span></p>\n\n<p style="box-sizing: inherit\; margin-bottom: 1rem\; margin-top: 0px\;"><span class="mbz-typography-inner-wrapper css-7fn6et e1spt5vp1" style="box-sizing: inherit\; overflow-wrap: anywhere\;">Together\, we can empower voters and build a more informed\, engaged community&mdash\;one conversation at a time.</span></p>\n\n<p style="box-sizing: inherit\; margin-bottom: 0px\; margin-top: 0px\;"><span class="mbz-typography-inner-wrapper css-7fn6et e1spt5vp1" style="box-sizing: inherit\; overflow-wrap: anywhere\;">Sign up today and be part of the movement for accessible\, nonpartisan civic engagement!</span></p>\n</div>\n</div>\n</div>\n</div>\n</div>\n
LOCATION:Dakota Perk 3900 Dakota Ave South Sioux City\, NE 68776
UID:e.1605.27700
SEQUENCE:3
DTSTAMP:20260424T084808Z
URL:https://business.southsiouxchamber.org/events/details/south-sioux-city-canvassing-27700
END:VEVENT

END:VCALENDAR
