BEGIN:VCALENDAR
VERSION:2.0
PRODID:-//ChamberMaster//Event Calendar 2.0//EN
METHOD:PUBLISH
X-PUBLISHED-TTL:P3D
REFRESH-INTERVAL:P3D
CALSCALE:GREGORIAN
BEGIN:VEVENT
DTSTART:20260515T143000Z
DTEND:20260515T153000Z
X-MICROSOFT-CDO-ALLDAYEVENT:FALSE
SUMMARY:SSC Chamber Coffee Hosted by Leadership Dakota County
DESCRIPTION:Coffee Hour is designed to be informal people meet over coffee\, chat\, and learn about the host's services and upcoming Chamber events.  Chamber Businesses make announcements during 10 seconds of fame!  Light Breakfast and beverages
X-ALT-DESC;FMTTYPE=text/html:&nbsp\;Coffee Hour is designed to be informal&mdash\;people meet over coffee\, chat\, and learn about the host&rsquo\;s services and upcoming Chamber events.&nbsp\; Chamber Businesses make announcements during 10 seconds of fame!&nbsp\; Light Breakfast and beverages
LOCATION:Leadership Dakota County At The College Center RM #126
UID:e.1605.27309
SEQUENCE:3
DTSTAMP:20260420T132923Z
URL:https://business.southsiouxchamber.org/events/details/ssc-chamber-coffee-hosted-by-leadership-dakota-county-27309
END:VEVENT

END:VCALENDAR
