BEGIN:VCALENDAR
VERSION:2.0
PRODID:-//ChamberMaster//Event Calendar 2.0//EN
METHOD:PUBLISH
X-PUBLISHED-TTL:P3D
REFRESH-INTERVAL:P3D
CALSCALE:GREGORIAN
BEGIN:VEVENT
DTSTART:20260529T143000Z
DTEND:20260529T153000Z
X-MICROSOFT-CDO-ALLDAYEVENT:FALSE
SUMMARY:SSC Chamber Coffee Hosted By SSC Public Library
DESCRIPTION:Coffee Hour is designed to be informal people meet over coffee\, chat\, and learn about the host's services and upcoming Chamber events.  Chamber Businesses make announcements during 10 seconds of fame!  Light Breakfast and beverages
X-ALT-DESC;FMTTYPE=text/html:&nbsp\;Coffee Hour is designed to be informal&mdash\;people meet over coffee\, chat\, and learn about the host&rsquo\;s services and upcoming Chamber events.&nbsp\; Chamber Businesses make announcements during 10 seconds of fame!&nbsp\; Light Breakfast and beverages
LOCATION:SSC Public Library 2121 Dakota Ave. South Sioux City
UID:e.1605.27311
SEQUENCE:3
DTSTAMP:20260420T093329Z
URL:https://business.southsiouxchamber.org/events/details/ssc-chamber-coffee-hosted-by-ssc-public-library-27311
END:VEVENT

END:VCALENDAR
