BEGIN:VCALENDAR
VERSION:2.0
PRODID:-//ChamberMaster//Event Calendar 2.0//EN
METHOD:PUBLISH
X-PUBLISHED-TTL:P3D
REFRESH-INTERVAL:P3D
CALSCALE:GREGORIAN
BEGIN:VEVENT
DTSTART:20260501T143000Z
DTEND:20260501T153000Z
X-MICROSOFT-CDO-ALLDAYEVENT:FALSE
SUMMARY:SSC Chamber Coffee Hour hosted by AJ Publishing/SignPro
DESCRIPTION:Coffee Hour is designed to be informal people meet over coffee\, chat\, and learn about the host's services and upcoming Chamber events.  Chamber Businesses make announcements during 10 seconds of fame!  Light Breakfast and beverages
X-ALT-DESC;FMTTYPE=text/html:&nbsp\;Coffee Hour is designed to be informal&mdash\;people meet over coffee\, chat\, and learn about the host&rsquo\;s services and upcoming Chamber events.&nbsp\; Chamber Businesses make announcements during 10 seconds of fame!&nbsp\; Light Breakfast and beverages
LOCATION:A.J. Publishing / Siouxland SignPro 2400 Dakota Ave.
UID:e.1605.27307
SEQUENCE:3
DTSTAMP:20260420T100333Z
URL:https://business.southsiouxchamber.org/events/details/ssc-chamber-coffee-hour-hosted-by-aj-publishing-signpro-27307
END:VEVENT

END:VCALENDAR
