BEGIN:VCALENDAR
VERSION:2.0
PRODID:-//ChamberMaster//Event Calendar 2.0//EN
METHOD:PUBLISH
X-PUBLISHED-TTL:P3D
REFRESH-INTERVAL:P3D
CALSCALE:GREGORIAN
BEGIN:VEVENT
DTSTART:20260620T130000Z
DTEND:20260620T160000Z
X-MICROSOFT-CDO-ALLDAYEVENT:FALSE
SUMMARY:Walk in Remembrance
DESCRIPTION:The Walk in Remembrance is a heartfelt community event to honor loved ones who have passed\, as well as those currently on hospice or receiving palliative\, end-of-life care. Families\, caregivers\, and community members come together for a meaningful morning of remembrance\, reflection\, and connection.\n\n \n\nAll proceeds benefit Mitchell House and directly support comfort-focused care for individuals and their families.\n\n \n\nJoin us for a meaningful gathering in support of Mitchell House\, a nonprofit\, home-like setting dedicated to providing dignity\, comfort\, and peace at the end of life.\n\n \n\nWe walk to honor those we love and to ensure others receive the same compassionate care during life's most important moments.\n\nEarly Bird & Special Offers\n\nTake advantage of our limited-time Early Bird pricing and promotions.\n\nEarly Bird Rate\n\nApril 3   April 30\, 2026\n\n$25 per ticket\n\nBuy One\, Get One Free\n\nValid April 3   April 10\, 2026\n\n \n\nEarly Bird Bonus\n\nSubmit a photo of your loved one for our Memory Board\n\nEmail: info@mitchell-house.org\n\nMail or drop off: Mitchell House\, 6140 Morningside Ave\, Sioux City\, IA 51106\n\n \n\nStandard Pricing\n\nStarting May 1\, 2026   $30 per ticket\n\nDay of Event   $35 per ticket\n\nSecure your spot early\, save on registration\, and help us honor those we remember.\n\n \n\nEvent Details\n\nDate: Saturday\, June 20\, 2026\n\n \n\nMeet Location:\n\nMcCook Lake Izaak Walton League\n\n215 Suncoast Dr\, North Sioux City\, SD 57049\n\n \n\nIncludes breakfast and coffee\n\n \n\nWalk Location:\n\nAdam's Nature Preserve\n\n272 Westshore Dr\, North Sioux City\, SD 57049\n\n \n\nParking\n\nPlease park on the street or at Adam's Nature Preserve for overflow parking.\n\n \n\nEvent Schedule\n\n8:00 AM   8:45 AM: Registration (skip if pre-registered online)\n\n8:45 AM   9:00 AM: Welcome\n\n9:00 AM   9:45 AM: Walk\n\n9:45 AM   10:00 AM: Personalize your lantern\n\n10:00 AM   10:30 AM: Lantern release\n\n \n\nRegistration\n\nWhen registering\, please:\n\n\n	Share the name of the person you are walking in memory or honor of\n\n\nPayment Options\n\nSecure\, fee-free payment is available by credit/debit card or bank transfer through Zeffy.\n\n \n\nZeffy may prompt you to add a voluntary contribution to support their platform. This is optional. To avoid additional charges\, select "Other" and leave the amount blank.\n\nYou may also pay by cash\, check\, or card on the day of the event.\n\nIf you need assistance registering online using Zeffy\, please call Stephanie Veurink at 712-244-3020.\n\n \n\nDouble Your Impact\n\nThanks to a generous donor\, all contributions will be matched dollar-for-dollar. Your gift goes twice as far helping us extend compassionate care to even more families in need.\n\n \n\nWalk With Us\n\nWhether you walk in memory or in support of someone's journey\, your presence makes a difference. Together\, we can ensure that no one faces the end-of-life without dignity\, comfort\, and compassionate care.
X-ALT-DESC;FMTTYPE=text/html:<p>The Walk in Remembrance is a heartfelt community event to honor loved ones who have passed\, as well as those currently on hospice or receiving palliative\, end-of-life care. Families\, caregivers\, and community members come together for a meaningful morning of remembrance\, reflection\, and connection.</p>\n\n<p>&nbsp\;</p>\n\n<p>All proceeds benefit Mitchell House and directly support comfort-focused care for individuals and their families.</p>\n\n<p>&nbsp\;</p>\n\n<p>Join us for a meaningful gathering in support of Mitchell House\, a nonprofit\, home-like setting dedicated to providing dignity\, comfort\, and peace at the end of life.</p>\n\n<p>&nbsp\;</p>\n\n<p>We walk to honor those we love&mdash\;and to ensure others receive the same compassionate care during life&rsquo\;s most important moments.</p>\n\n<p><strong>Early Bird &amp\; Special Offers</strong></p>\n\n<p>Take advantage of our limited-time Early Bird pricing and promotions.</p>\n\n<p>Early Bird Rate<br />\nApril 3 &ndash\; April 30\, 2026<br />\n$25 per ticket</p>\n\n<p>Buy One\, Get One Free<br />\nValid April 3 &ndash\; April 10\, 2026</p>\n\n<p>&nbsp\;</p>\n\n<p>Early Bird Bonus<br />\nSubmit a photo of your loved one for our Memory Board<br />\nEmail: info@mitchell-house.org</p>\n\n<p>Mail or drop off: Mitchell House\, 6140 Morningside Ave\, Sioux City\, IA 51106</p>\n\n<p>&nbsp\;</p>\n\n<p>Standard Pricing<br />\nStarting May 1\, 2026 &ndash\; $30 per ticket<br />\nDay of Event &ndash\; $35 per ticket</p>\n\n<p>Secure your spot early\, save on registration\, and help us honor those we remember.</p>\n\n<p>&nbsp\;</p>\n\n<p><strong><u>Event Details</u></strong></p>\n\n<p><strong>Date: Saturday\, June 20\, 2026</strong></p>\n\n<p>&nbsp\;</p>\n\n<p><strong><u>Meet Location:</u></strong></p>\n\n<p>McCook Lake Izaak Walton League<br />\n215 Suncoast Dr\, North Sioux City\, SD 57049</p>\n\n<p>&nbsp\;</p>\n\n<p>Includes breakfast and coffee</p>\n\n<p>&nbsp\;</p>\n\n<p><strong><u>Walk Location:</u></strong><br />\nAdam&rsquo\;s Nature Preserve<br />\n272 Westshore Dr\, North Sioux City\, SD 57049</p>\n\n<p>&nbsp\;</p>\n\n<p><strong><u>Parking</u></strong><br />\nPlease park on the street or at Adam&rsquo\;s Nature Preserve for overflow parking.</p>\n\n<p>&nbsp\;</p>\n\n<p><strong><u>Event Schedule</u></strong></p>\n\n<p>8:00 AM &ndash\; 8:45 AM: Registration (skip if pre-registered online)<br />\n8:45 AM &ndash\; 9:00 AM: Welcome<br />\n9:00 AM &ndash\; 9:45 AM: Walk<br />\n9:45 AM &ndash\; 10:00 AM: Personalize your lantern<br />\n10:00 AM &ndash\; 10:30 AM: Lantern release</p>\n\n<p>&nbsp\;</p>\n\n<p><strong><u>Registration</u></strong></p>\n\n<p>When registering\, please:</p>\n\n<ul>\n	<li>Share the name of the person you are walking in memory or honor of</li>\n</ul>\n\n<p><strong><u>Payment Options</u></strong></p>\n\n<p>Secure\, fee-free payment is available by credit/debit card or bank transfer through Zeffy.</p>\n\n<p>&nbsp\;</p>\n\n<p>Zeffy may prompt you to add a voluntary contribution to support their platform. This is optional. To avoid additional charges\, select &ldquo\;Other&rdquo\; and leave the amount blank.</p>\n\n<p>You may also pay by cash\, check\, or card on the day of the event.</p>\n\n<p>If you need assistance registering online using Zeffy\, please call Stephanie Veurink at 712-244-3020.</p>\n\n<p>&nbsp\;</p>\n\n<p><strong><u>Double Your Impact</u></strong></p>\n\n<p>Thanks to a generous donor\, all contributions will be matched dollar-for-dollar. Your gift goes twice as far&mdash\;helping us extend compassionate care to even more families in need.</p>\n\n<p>&nbsp\;</p>\n\n<p><strong><u>Walk With Us</u></strong></p>\n\n<p>Whether you walk in memory or in support of someone&rsquo\;s journey\, your presence makes a difference. Together\, we can ensure that no one faces the end-of-life without dignity\, comfort\, and compassionate care.</p>\n
LOCATION:Meet Location: McCook Lake Izaak Walton League 215 Suncoast Dr\, North Sioux City\, SD 57049 Includes breakfast and coffee Walk Location: Adam's Nature Preserve 272 Westshore Dr\, North Sioux City\, SD 57049
UID:e.1605.27673
SEQUENCE:3
DTSTAMP:20260423T032722Z
URL:https://business.southsiouxchamber.org/events/details/walk-in-remembrance-06-20-2026-27673
END:VEVENT

END:VCALENDAR
